BEGIN:VCALENDAR
VERSION:2.0
METHOD:PUBLISH
X-WR-CALNAME:Waterlea School |  February 01 2015- March 01 2015
PRODID:-//strange bird labs//Drupal iCal API//EN
BEGIN:VEVENT
DTSTAMP;VALUE=DATE-TIME:20180122T133649Z
DTSTART;VALUE=DATE-TIME:20141218T081900Z
DTEND;VALUE=DATE-TIME:20020203
UID:http://www.waterlea.school.nz/school-holidays-4
URL;VALUE=URI:http://www.waterlea.school.nz/school-holidays-4
SUMMARY:SCHOOL HOLIDAYS
END:VEVENT
BEGIN:VEVENT
DTSTAMP;VALUE=DATE-TIME:20180122T133649Z
DTSTART;VALUE=DATE-TIME:20150203T082200Z
DTEND;VALUE=DATE-TIME:20020203
UID:http://www.waterlea.school.nz/start-of-term-1-2015-date-to-be-confirmed
URL;VALUE=URI:http://www.waterlea.school.nz/start-of-term-1-2015-date-to-be-confirmed
SUMMARY:Start of Term 1 in 2015 - 3 February 2015
END:VEVENT
END:VCALENDAR
